BEGIN:VCALENDAR
VERSION:2.0
PRODID:-//Paragliding Academy GmbH- Gleitschirmschule und Sicherheitstrainingscenter - ECPv6.15.20//NONSGML v1.0//EN
CALSCALE:GREGORIAN
METHOD:PUBLISH
X-ORIGINAL-URL:https://paragliding-academy.com
X-WR-CALDESC:Veranstaltungen für Paragliding Academy GmbH- Gleitschirmschule und Sicherheitstrainingscenter
REFRESH-INTERVAL;VALUE=DURATION:PT1H
X-Robots-Tag:noindex
X-PUBLISHED-TTL:PT1H
BEGIN:VTIMEZONE
TZID:Europe/Berlin
BEGIN:DAYLIGHT
TZOFFSETFROM:+0100
TZOFFSETTO:+0200
TZNAME:CEST
DTSTART:20240331T010000
END:DAYLIGHT
BEGIN:STANDARD
TZOFFSETFROM:+0200
TZOFFSETTO:+0100
TZNAME:CET
DTSTART:20241027T010000
END:STANDARD
BEGIN:DAYLIGHT
TZOFFSETFROM:+0100
TZOFFSETTO:+0200
TZNAME:CEST
DTSTART:20250330T010000
END:DAYLIGHT
BEGIN:STANDARD
TZOFFSETFROM:+0200
TZOFFSETTO:+0100
TZNAME:CET
DTSTART:20251026T010000
END:STANDARD
BEGIN:DAYLIGHT
TZOFFSETFROM:+0100
TZOFFSETTO:+0200
TZNAME:CEST
DTSTART:20260329T010000
END:DAYLIGHT
BEGIN:STANDARD
TZOFFSETFROM:+0200
TZOFFSETTO:+0100
TZNAME:CET
DTSTART:20261025T010000
END:STANDARD
END:VTIMEZONE
BEGIN:VEVENT
DTSTART;VALUE=DATE:20250419
DTEND;VALUE=DATE:20250421
DTSTAMP:20260420T215614
CREATED:20240828T180404Z
LAST-MODIFIED:20240828T180404Z
UID:10000284-1745020800-1745193599@paragliding-academy.com
SUMMARY:Gleitschirm Schnupperkurs SK4 19.04.2025 – 20.04.2025
DESCRIPTION:
URL:https://paragliding-academy.com/event/gleitschirm-schnupperkurs-sk4-19-04-2025-20-04-2025/
ATTACH;FMTTYPE=image/jpeg:https://paragliding-academy.com/wp-content/uploads/2023/10/schnupperkursneu.jpg
END:VEVENT
BEGIN:VEVENT
DTSTART;VALUE=DATE:20250419
DTEND;VALUE=DATE:20250424
DTSTAMP:20260420T215614
CREATED:20240823T102859Z
LAST-MODIFIED:20240823T102859Z
UID:10000194-1745020800-1745452799@paragliding-academy.com
SUMMARY:Alpentour3 19.04.2025 – 23.04.2025
DESCRIPTION:
URL:https://paragliding-academy.com/event/alpentour3-19-04-2025-23-04-2025/
ATTACH;FMTTYPE=image/png:https://paragliding-academy.com/wp-content/uploads/2023/10/Alpentour-Gleitschirmtour-1.png
END:VEVENT
BEGIN:VEVENT
DTSTART;VALUE=DATE:20250419
DTEND;VALUE=DATE:20250424
DTSTAMP:20260420T215614
CREATED:20240827T165140Z
LAST-MODIFIED:20240827T165140Z
UID:10000218-1745020800-1745452799@paragliding-academy.com
SUMMARY:Gleitschirm Grundkurs GK4 19.04.2025 – 23.04.2025
DESCRIPTION:
URL:https://paragliding-academy.com/event/gleitschirm-grundkurs-gk4-19-04-2025-23-04-2025/
ATTACH;FMTTYPE=image/png:https://paragliding-academy.com/wp-content/uploads/2023/10/Gleitschirm-Grundkurs-Allgaeu.png
END:VEVENT
BEGIN:VEVENT
DTSTART;VALUE=DATE:20250419
DTEND;VALUE=DATE:20250425
DTSTAMP:20260420T215614
CREATED:20240819T104423Z
LAST-MODIFIED:20240819T104423Z
UID:10000165-1745020800-1745539199@paragliding-academy.com
SUMMARY:Gleitschirm Sicherheitstraining S3 19.04.2025 – 24.04.2025
DESCRIPTION:
URL:https://paragliding-academy.com/event/gleitschirm-sicherheitstraining-s3-19-04-2025-24-04-2025/
ATTACH;FMTTYPE=image/png:https://paragliding-academy.com/wp-content/uploads/2023/10/Sicherheitstraining.png
END:VEVENT
BEGIN:VEVENT
DTSTART;VALUE=DATE:20250419
DTEND;VALUE=DATE:20250427
DTSTAMP:20260420T215614
CREATED:20240827T160014Z
LAST-MODIFIED:20240827T160014Z
UID:10000214-1745020800-1745711999@paragliding-academy.com
SUMMARY:Gleitschirmreise Ivrea 19.04.2025 – 26.04.2025
DESCRIPTION:
URL:https://paragliding-academy.com/event/gleitschirmreise-ivrea-19-04-2025-26-04-2025/
ATTACH;FMTTYPE=image/jpeg:https://paragliding-academy.com/wp-content/uploads/2024/08/Gleitschirmreise-Ivrea.jpg
END:VEVENT
END:VCALENDAR