BEGIN:VCALENDAR
VERSION:2.0
PRODID:-//Paragliding Academy GmbH- Gleitschirmschule und Sicherheitstrainingscenter - ECPv6.15.20//NONSGML v1.0//EN
CALSCALE:GREGORIAN
METHOD:PUBLISH
X-WR-CALNAME:Paragliding Academy GmbH- Gleitschirmschule und Sicherheitstrainingscenter
X-ORIGINAL-URL:https://paragliding-academy.com
X-WR-CALDESC:Veranstaltungen für Paragliding Academy GmbH- Gleitschirmschule und Sicherheitstrainingscenter
REFRESH-INTERVAL;VALUE=DURATION:PT1H
X-Robots-Tag:noindex
X-PUBLISHED-TTL:PT1H
BEGIN:VTIMEZONE
TZID:Europe/Berlin
BEGIN:DAYLIGHT
TZOFFSETFROM:+0100
TZOFFSETTO:+0200
TZNAME:CEST
DTSTART:20240331T010000
END:DAYLIGHT
BEGIN:STANDARD
TZOFFSETFROM:+0200
TZOFFSETTO:+0100
TZNAME:CET
DTSTART:20241027T010000
END:STANDARD
BEGIN:DAYLIGHT
TZOFFSETFROM:+0100
TZOFFSETTO:+0200
TZNAME:CEST
DTSTART:20250330T010000
END:DAYLIGHT
BEGIN:STANDARD
TZOFFSETFROM:+0200
TZOFFSETTO:+0100
TZNAME:CET
DTSTART:20251026T010000
END:STANDARD
BEGIN:DAYLIGHT
TZOFFSETFROM:+0100
TZOFFSETTO:+0200
TZNAME:CEST
DTSTART:20260329T010000
END:DAYLIGHT
BEGIN:STANDARD
TZOFFSETFROM:+0200
TZOFFSETTO:+0100
TZNAME:CET
DTSTART:20261025T010000
END:STANDARD
END:VTIMEZONE
BEGIN:VEVENT
DTSTART;VALUE=DATE:20250419
DTEND;VALUE=DATE:20250427
DTSTAMP:20260420T215238
CREATED:20240827T160014Z
LAST-MODIFIED:20240827T160014Z
UID:10000214-1745020800-1745711999@paragliding-academy.com
SUMMARY:Gleitschirmreise Ivrea 19.04.2025 – 26.04.2025
DESCRIPTION:
URL:https://paragliding-academy.com/event/gleitschirmreise-ivrea-19-04-2025-26-04-2025/
ATTACH;FMTTYPE=image/jpeg:https://paragliding-academy.com/wp-content/uploads/2024/08/Gleitschirmreise-Ivrea.jpg
END:VEVENT
BEGIN:VEVENT
DTSTART;VALUE=DATE:20250424
DTEND;VALUE=DATE:20250426
DTSTAMP:20260420T215238
CREATED:20240827T173024Z
LAST-MODIFIED:20240827T173024Z
UID:10000230-1745452800-1745625599@paragliding-academy.com
SUMMARY:Gleitschirm A-Schein Theorie T4 24.04.2025 – 25.04.2025
DESCRIPTION:
URL:https://paragliding-academy.com/event/gleitschirm-a-schein-theorie-t4-24-04-2025-25-04-2025/
ATTACH;FMTTYPE=image/png:https://paragliding-academy.com/wp-content/uploads/2023/11/Gleitschirm-A-Schein-Theorie-Unterricht.png
END:VEVENT
BEGIN:VEVENT
DTSTART;VALUE=DATE:20250425
DTEND;VALUE=DATE:20250426
DTSTAMP:20260420T215238
CREATED:20240829T175552Z
LAST-MODIFIED:20240829T175552Z
UID:10000309-1745539200-1745625599@paragliding-academy.com
SUMMARY:THEORIEPRÜFUNG A-Schein 4 25.04.25
DESCRIPTION:
URL:https://paragliding-academy.com/event/theoriepruefung-a-schein-4-25-04-25/
ATTACH;FMTTYPE=image/png:https://paragliding-academy.com/wp-content/uploads/2023/12/DHV-Pruefung-A-Schein-Theorie.png
END:VEVENT
END:VCALENDAR