BEGIN:VCALENDAR
VERSION:2.0
PRODID:-//Paragliding Academy GmbH- Gleitschirmschule und Sicherheitstrainingscenter - ECPv6.15.20//NONSGML v1.0//EN
CALSCALE:GREGORIAN
METHOD:PUBLISH
X-ORIGINAL-URL:https://paragliding-academy.com
X-WR-CALDESC:Veranstaltungen für Paragliding Academy GmbH- Gleitschirmschule und Sicherheitstrainingscenter
REFRESH-INTERVAL;VALUE=DURATION:PT1H
X-Robots-Tag:noindex
X-PUBLISHED-TTL:PT1H
BEGIN:VTIMEZONE
TZID:Europe/Berlin
BEGIN:DAYLIGHT
TZOFFSETFROM:+0100
TZOFFSETTO:+0200
TZNAME:CEST
DTSTART:20240331T010000
END:DAYLIGHT
BEGIN:STANDARD
TZOFFSETFROM:+0200
TZOFFSETTO:+0100
TZNAME:CET
DTSTART:20241027T010000
END:STANDARD
BEGIN:DAYLIGHT
TZOFFSETFROM:+0100
TZOFFSETTO:+0200
TZNAME:CEST
DTSTART:20250330T010000
END:DAYLIGHT
BEGIN:STANDARD
TZOFFSETFROM:+0200
TZOFFSETTO:+0100
TZNAME:CET
DTSTART:20251026T010000
END:STANDARD
BEGIN:DAYLIGHT
TZOFFSETFROM:+0100
TZOFFSETTO:+0200
TZNAME:CEST
DTSTART:20260329T010000
END:DAYLIGHT
BEGIN:STANDARD
TZOFFSETFROM:+0200
TZOFFSETTO:+0100
TZNAME:CET
DTSTART:20261025T010000
END:STANDARD
END:VTIMEZONE
BEGIN:VEVENT
DTSTART;VALUE=DATE:20250426
DTEND;VALUE=DATE:20250502
DTSTAMP:20260420T215538
CREATED:20240819T104501Z
LAST-MODIFIED:20240819T104501Z
UID:10000166-1745625600-1746143999@paragliding-academy.com
SUMMARY:Gleitschirm Sicherheitstraining S4 26.04.2025 – 01.05.2025
DESCRIPTION:
URL:https://paragliding-academy.com/event/gleitschirm-sicherheitstraining-s4-26-04-2025-01-05-2025/
ATTACH;FMTTYPE=image/png:https://paragliding-academy.com/wp-content/uploads/2023/10/Sicherheitstraining.png
END:VEVENT
BEGIN:VEVENT
DTSTART;VALUE=DATE:20250426
DTEND;VALUE=DATE:20250503
DTSTAMP:20260420T215538
CREATED:20240828T090139Z
LAST-MODIFIED:20240828T090139Z
UID:10000243-1745625600-1746230399@paragliding-academy.com
SUMMARY:Gleitschirm Höhenkurs HK5 26.04.2025 – 02.05.2025
DESCRIPTION:
URL:https://paragliding-academy.com/event/gleitschirm-hoehenkurs-hk5-26-04-2025-02-05-2025/
ATTACH;FMTTYPE=image/png:https://paragliding-academy.com/wp-content/uploads/2023/11/Gleitschirm-Hoehenkurs-Allgaeu.png
END:VEVENT
BEGIN:VEVENT
DTSTART;VALUE=DATE:20250426
DTEND;VALUE=DATE:20250504
DTSTAMP:20260420T215538
CREATED:20240826T064331Z
LAST-MODIFIED:20240826T064331Z
UID:10000200-1745625600-1746316799@paragliding-academy.com
SUMMARY:Gleitschirmreise Meduno1 26.04.2025 – 03.05.2025
DESCRIPTION:
URL:https://paragliding-academy.com/event/gleitschirmreise-meduno1-26-04-2025-03-05-2025/
ATTACH;FMTTYPE=image/png:https://paragliding-academy.com/wp-content/uploads/2023/10/Meduno-Flugreise.png
END:VEVENT
END:VCALENDAR